Workbook

Sheet Portada
B6: DECOM S.A.S | R6: Nombre de la Empresa
A8: ENLACE
A10: ANT.RPT CERRO MARGARITA - MED.MEGACENTER
A11: Sitio A | G11: ANT.RPT Cerro Margarita
A12: Sitio B | G12: MED.Megacenter
A14: Expediente 1 No.
A16: 0001
B19: Canales de Frecuencias Recomendados
B20: BANDA | F20: Frecuencia | O20: Canal | T20: Tabla
B21: 11 | F21: 10700 - 11700 (CNABF TABLA 66, canal 8, POL: XPIC) | O21: 8 | T21: 66
B22: Alternativa 1
B23: 11 | F23: 10700 - 11700 (CNABF TABLA 66, canal 9, POL: XPIC) | O23: 9 | T23: 66
B24: Alternativa 2
B25: 11 | F25: 10700 - 11700 (CNABF TABLA 66, canal 10, POL: XPIC) | O25: 10 | T25: 66
B26: Alternativa 3
B27: 11 | F27: 10700 - 11700 (CNABF TABLA 66, canal 11, POL: XPIC) | O27: 11 | T27: 66
B28: Alternativa 3
B29: 11 | F29: 10700 - 11700 (CNABF TABLA 66, canal 15, POL: XPIC) | O29: 15 | T29: 66
B30: Alternativa 3
B31: 11 | F31: 10700 - 11700 (CNABF TABLA 66, canal 16, POL: XPIC) | O31: 16 | T31: 66
B32: Distancia del Enlace
B33: 14.75 Km
B34: Coordenadas Sitio A
B35: 75° 34'45.58"W
B36: 6°05'28.17"N
B37: M.S.N.M | J37: 2960 | P37: Acimuth | X37: 4°
B38: Altura Torre | J38: 60 m | P38: Altura Antena | X38: 40 m
B39: Coordenadas Sitio B
B40: 75°34'11.91"W
B41: 6° 13'27.16"N
B42: M.S.N.M | J42: 1492 | P42: Acimuth | X42: 184°
B43: Altura Torre | J43: 35 m | P43: Altura Antena | X43: 37 m
B44: Configuración Enlace
B45: XPIC | J45: SI | P45: SD
B46: Canal Adyacente | P46: Configuración del Enlace | X46: 6+0
B47: Ancho de Banda ODU | P47: Capacidad Máxima
B48: Numero de Canales
B50: Fecha de Ejecucion del FSS | O50: 44315
A52: Documento Propiedad de Ceragon Colombia Ing. Demis Duque

Sheet Descripcion de la Tarea 
B6: Descripcion de los Equipos a usar en el FSS
B7: * Analizadores de espectro de las siguientes marcas: Anritsu MS2720T Rangos de Operación: 9KHz a 20GHz Sensibilidades: -140 dbm * Frecuencias de Operación de las Antenas: - 4.0 -8.0 GHz -7.5 - 18.0 GHz - Ganancias Nominales de las Antenas: - 20 dBi * Tipo de PreAmplificador: - Ganancia Nominal: 20 dBm - Rango de Operacion: 10 KHz - 22 GHz * Caracteristicas de los Kit de Cables(Perdidas): - 6dB * Caracteristicas del Computador e Interfaz para la Obtencion de Informacion: - Conexión de USB mediante Master Tools * Modelo de GPS: Garmin Etrex * Modelo de la Camara: Xiaomi Redmi Note 9S * Modelos de los Binoculares: Olympus REF:10-30*25 * Otros Equipos y Herramientas: - Brújula Suunto y Oceánica - Pinza Multiampérica Unix 203
B28: Paso a Paso para la Ejecucion del FSS
B29: 1 | C29: Configuración de parámetros del equipo de medición y caracterización de las mediciones acorde con los requerimientos del sitio específico.
B30: 2 | C30: Ascenso a la torre y ubicación en la altura solicitada.
B31: 3 | C31: Ubicación en el respectivo azimuth con la brújula e inicio del muestreo con los paneos exigidos para canales de interés y bandas de frecuencias completas.
B32: 4 | C32: Proceso en cada una de las gráficas tomadas. Se guardan dos trazas, la primera de color amarillo y la segunda de color verde correspondientes a las muestras captadas en polarización horizontal y vertical respectivamente.
B33: 5 | C33: Se guardan en la memoria interna del analizador los archivos conjuntamente con cada medición de bandas o canales.
B34: 6 | C34: Toma de fotografías y verificación final de los archivos alojados en la memoria del equipo.
B35: 7 | C35: Post- procesamiento de la información con nuestra herramienta de software Diagrama sectorial, análisis de gráficas, verificación y recomendación de canales disponibles.
B36: 8 | C36: Se realizan mediciones de cada 10° en 360°, grafico sostenido 360°, sostenido +- 30° - til +- 5 ° partiendo desde el azimuth de interes.(todas las mediciones incluyen polarización H/V, Horizontal color amarillo , vertical color verde).
B37: 9
B38: 10
A40: Documento Propiedad de Ceragon Colombia Ing. Demis Duque

Sheet Informe Sitio A 
B1: INFORME ESTUDIOS DE OCUPACIÓN DE FRECUENCIAS
B2: COMCEL S.A. | C2: =Portada!A16 -> 0001
B3: FECHA DE REALIZACION DEL ESTUDIO | C3: 44314
B4: NOMBRE ESTACION A | C4: =Portada!G11 -> ANT.RPT Cerro Margarita
B5: ENLACE CON DIRECCION A | C5: MED.Megacenter
B6: ALTAS | C6: BAJAS
B8: COORDENADAS (WGS84)
B9: LONGITUD | C9: LATITUD
B10: -75.579328 | C10: 6.0911583
B11: LONGITUD | C11: LATITUD
B12: =Portada!B35 -> 75° 34'45.58"W | C12: =Portada!B36 -> 6°05'28.17"N
B13: DIRECCION DEL SITIO A
B15: ACIMUT | C15: =Portada!X37 -> 4°
B16: ELEVACION (msnm) | C16: =Portada!J37 -> 2960
B17: ALTURA DE ANTENA EN TORRE (msnp) | C17: 40
B18: BANDAS DE FRECUENCIAS DE MEDICION | C18: 11 GHz
B19: ANCHO DE BANDA DEL CANAL SOLICITADO (MHz) | C19: 28 MHz
B20: NUMERO DE CANALES REQUERIDOS | C20: 6
B21: CANALIZACION SOLICITADA | C21: =Portada!F21 -> 10700 - 11700 (CNABF TABLA 66, canal 8, POL: XPIC)
B22: CANALIZACION ALTERNATIVA 1 | C22: =Portada!F23 -> 10700 - 11700 (CNABF TABLA 66, canal 9, POL: XPIC)
B23: CANALIZACION ALTERNATIVA 2 | C23: =Portada!F25 -> 10700 - 11700 (CNABF TABLA 66, canal 10, POL: XPIC)
B24: CANALIZACION ALTERNATIVA 3 | C24: =Portada!F27 -> 10700 - 11700 (CNABF TABLA 66, canal 11, POL: XPIC)
B25: CANALIZACION ALTERNATIVA 4 | C25: =Portada!F29 -> 10700 - 11700 (CNABF TABLA 66, canal 15, POL: XPIC)
B26: CANALIZACION ALTERNATIVA 5 | C26: =Portada!F31 -> 10700 - 11700 (CNABF TABLA 66, canal 16, POL: XPIC)
B28: DESCRIPCION TECNICA DE LA MEDICION
B29: NIVEL DE REFERENCIA (dBm) | C29: -40
B30: VALORES POR DIVISION (dB/MHz) | C30: 10
B31: RBW (KHz) | C31: 300
B32: VBW (KHz) | C32: 100
B33: SPAN (MHz) | C33: 350
B34: ALTURA DE LA ANTENA DE MEDICION (msnp) | C34: 40
B35: ESPECIFICACIONES DE LOS INSTRUMENTOS
B36: TIPO DE ANTENA | C36: Horn
B37: GANANCIA DE LA ANTENA (dBi) | C37: 20
B38: HPBW H/V de la Antena (grados) | C38: 22/20
B39: GANANCIA DEL PREAMPLIFICADOR (dB) | C39: 20
B40: PERDIDAS DE LOS CABLES (dB) | C40: 6

Sheet Informe Sitio B
B1: INFORME ESTUDIOS DE OCUPACIÓN DE FRECUENCIAS
B2: COMCEL S.A. | C2: =Portada!A16 -> 0001
B3: FECHA DE REALIZACION DEL ESTUDIO | C3: 44315
B4: NOMBRE ESTACION B | C4: =Portada!G12 -> MED.Megacenter
B5: ENLACE CON DIRECCION B | C5: ANT.RPT Cerro Margarita
B6: BAJAS | C6: ALTAS
B8: COORDENADAS (WGS84)
B9: LONGITUD | C9: LATITUD
B10: -75.569975 | C10: 6.2242111
B11: LONGITUD | C11: LATITUD
B12: =Portada!B40 -> 75°34'11.91"W | C12: =Portada!B41 -> 6° 13'27.16"N
B13: DIRECCION DEL SITIO B
B15: ACIMUT | C15: =Portada!X42 -> 184°
B16: ELEVACION (msnm) | C16: =Portada!J42 -> 1492
B17: ALTURA DE ANTENA EN TORRE (msnp) | C17: 37
B18: BANDAS DE FRECUENCIAS DE MEDICION | C18: 11 GHz
B19: ANCHO DE BANDA DEL CANAL SOLICITADO (MHz) | C19: ='Informe Sitio A '!C19 -> 28 MHz
B20: NUMERO DE CANALES REQUERIDOS | C20: 6
B21: CANALIZACION SOLICITADA | C21: =Portada!F21 -> 10700 - 11700 (CNABF TABLA 66, canal 8, POL: XPIC)
B22: CANALIZACION ALTERNATIVA 1 | C22: =Portada!F23 -> 10700 - 11700 (CNABF TABLA 66, canal 9, POL: XPIC)
B23: CANALIZACION ALTERNATIVA 2 | C23: =Portada!F25 -> 10700 - 11700 (CNABF TABLA 66, canal 10, POL: XPIC)
B24: CANALIZACION ALTERNATIVA 3 | C24: =Portada!F27 -> 10700 - 11700 (CNABF TABLA 66, canal 11, POL: XPIC)
B25: CANALIZACION ALTERNATIVA 4 | C25: =Portada!F29 -> 10700 - 11700 (CNABF TABLA 66, canal 15, POL: XPIC)
B26: CANALIZACION ALTERNATIVA 5 | C26: =Portada!F31 -> 10700 - 11700 (CNABF TABLA 66, canal 16, POL: XPIC)
B27: DESCRIPCION TECNICA DE LA MEDICION
B28: NIVEL DE REFERENCIA (dBm) | C28: -40
B29: VALORES POR DIVISION (dB/MHz) | C29: ='Informe Sitio A '!C30 -> 10
B30: RBW (KHz) | C30: 300
B31: VBW (KHz) | C31: 100
B32: SPAN (MHz) | C32: ='Informe Sitio A '!C33 -> 350
B33: ALTURA DE LA ANTENA DE MEDICION (msnp) | C33: 37
B34: ESPECIFICACIONES DE LOS INSTRUMENTOS
B35: TIPO DE ANTENA | C35: ='Informe Sitio A '!C36 -> Horn
B36: GANANCIA DE LA ANTENA (dBi) | C36: ='Informe Sitio A '!C37 -> 20
B37: HPBW H/V de la Antena (grados) | C37: ='Informe Sitio A '!C38 -> 22/20
B38: GANANCIA DEL PREAMPLIFICADOR (dB) | C38: ='Informe Sitio A '!C39 -> 20
B39: PERDIDAS DE LOS CABLES (dB) | C39: ='Informe Sitio A '!C40 -> 6

Sheet Detectadas A Banda 11 GHz T66
B3: Frecuencia: | K3: 10700 - 11700MHz
B4: Estacion Sitio A: | K4: =Portada!G11 -> ANT.RPT Cerro Margarita
B5: Tabla de la ANE | K5: 66 | Y5: =Portada!X37 -> 4°
B6: REC. UIT-R F. 387-12
B8: SEÑALES DETECTADAS ENTRE 0 Y 360°
B9: Frecuencia | F9: Canal | I9: Pol | K9: Acimut (°) | N9: Potencia Pico (dBm) | Q9: Ancho de Banda (MHz) | T9: Potencia Isotrópica (dBm) | W9: Comentarios
B11: 10723 | F11: 1 | I11: HOR | K11: 0 | N11: -90.14 | Q11: 28 | T11: -104.14
B12: 10779 | F12: 3 | I12: HOR | K12: 0 | N12: -90.352 | Q12: 19.6 | T12: -104.35
B13: 10807 | F13: 4 | I13: HOR | K13: 0 | N13: -89.608 | Q13: 25.2 | T13: -103.61
B14: 10863 | F14: 6 | I14: HOR | K14: 0 | N14: -90.056 | Q14: 16.8 | T14: -104.06
B15: 10891 | F15: 7 | I15: HOR | K15: 0 | N15: -89.444 | Q15: 19.6 | T15: -103.44
B16: 10779 | F16: 3 | I16: VER | K16: 0 | N16: -90.46 | Q16: 5.6 | T16: -104.46
B17: 10807 | F17: 4 | I17: VER | K17: 0 | N17: -91.384 | Q17: 25.2 | T17: -105.38
B18: 10863 | F18: 6 | I18: VER | K18: 0 | N18: -89.808 | Q18: 19.6 | T18: -103.81
B19: 10891 | F19: 7 | I19: VER | K19: 0 | N19: -90.628 | Q19: 16.8 | T19: -104.63
B20: 10723 | F20: 1 | I20: HOR | K20: 10 | N20: -91.304 | Q20: 16.8 | T20: -105.3
B21: 10807 | F21: 4 | I21: HOR | K21: 10 | N21: -90.092 | Q21: 25.2 | T21: -104.09
B22: 10863 | F22: 6 | I22: HOR | K22: 10 | N22: -91.436 | Q22: 16.8 | T22: -105.44
B23: 10891 | F23: 7 | I23: HOR | K23: 10 | N23: -91.192 | Q23: 22.4 | T23: -105.19
B24: 10835 | F24: 5 | I24: HOR | K24: 40° | N24: -78.912 | Q24: 28 | T24: -92.91
B25: 10835 | F25: 5 | I25: VER | K25: 40° | N25: -81.164 | Q25: 28 | T25: -95.16
B26: 11325 | F26: 5' | I26: VER' | K26: 40° | N26: -81.172 | Q26: 28 | T26: -95.172
B27: 11325 | F27: 5' | I27: HOR' | K27: 50° | N27: -79.248 | Q27: 28 | T27: -93.248

Sheet Graficos A Banda 11 GHz
B3: Frecuencia: | K3: ='Detectadas A Banda 11 GHz T66'!K3:Y3 -> 10700 - 11700MHz
B4: Estacion Sitio A: | K4: =Portada!G11 -> ANT.RPT Cerro Margarita
B5: Tabla de la ANE: | K5: ='Detectadas A Banda 11 GHz T66'!K5:W5 -> 66
B6: ='Detectadas A Banda 11 GHz T66'!B6 -> REC. UIT-R F. 387-12
B8: SEÑALES DETECTADAS ENTRE 0 Y 360°

Sheet Imagenes A Banda 11 GHz T66
B1: =Portada!G11 -> ANT.RPT Cerro Margarita
B2: Latitud | C2: ='Informe Sitio A '!C12 -> 6°05'28.17"N | E2: Longitud | F2: ='Informe Sitio A '!B12 -> 75° 34'45.58"W
B3: Recomendación: | C3: REC. UIT-R F. 387-12 Tabla: 66
B4: Equipo utilizado: | C4: MS2720T | E4: Fecha: | F4: ='Informe Sitio A '!C3 -> 44314
B5: Perdidas Cable (dB): | C5: 6 | E5: Ganacia Antena (dBi): | F5: 20 | H5: G. Preamplificador (dB): | I5: 20
B6: Span: | C6: 350 | E6: Sweep Time: | F6: AUTO
B7: RBW(kHz): | C7: 300 | E7: VBW(kHz): | F7: 100
B8: Ref. Level(dBm): | C8: -40 | E8: At(dB): | F8: 0
B9: Az => 360° | C9: Bajas | D9: HOR | E9: VER | L9: Altas | M9: HOR | N9: VER
B30: ANT.RPT Cerro Margarita [4° ±30°] | C30: Bajas | D30: HOR | E30: VER | L30: Altas | M30: HOR | N30: VER

Sheet Detectadas B Banda 11 GHz T66
B3: Frecuencia: | K3: 10700 - 11700 MHz
B4: Estacion Sitio A: | K4: =Portada!G12 -> MED.Megacenter
B5: Tabla de la ANE | K5: 66 | AA5: =Portada!X42 -> 184°
B6: REC. UIT-R F. 387-12
B8: SEÑALES DETECTADAS ENTRE 0 Y 360°
B9: Frecuencia | F9: Canal | I9: Pol | K9: Acimut (°) | N9: Potencia Pico (dBm) | Q9: Ancho de Banda (MHz) | T9: Potencia Isotrópica (dBm) | W9: Comentarios

Sheet Graficos B Banda 11 GHz
B4: Frecuencia: | K4: ='Detectadas B Banda 11 GHz T66'!K3:Y3 -> 10700 - 11700 MHz
B5: Estacion Sitio B: | K5: =Portada!G12 -> MED.Megacenter
B6: Tabla de la ANE | K6: ='Detectadas B Banda 11 GHz T66'!K5:W5 -> 66
B7: ='Graficos A Banda 11 GHz'!B6 -> REC. UIT-R F. 387-12
B8: SEÑALES DETECTADAS ENTRE 0 Y 360°

Sheet Imagenes B Banda 11 GHz T66
B1: =Portada!G12 -> MED.Megacenter
B2: Latitud | C2: ='Informe Sitio B'!C12 -> 6° 13'27.16"N | E2: Longitud | F2: ='Informe Sitio B'!B12 -> 75°34'11.91"W
B3: Recomendación: | C3: REC. UIT-R F. 387-12 Tabla: 66
B4: Equipo utilizado: | C4: MS2720T | E4: Fecha: | F4: ='Informe Sitio B'!C3 -> 44315
B5: Perdidas Cable (dB): | C5: 6 | E5: Ganacia Antena (dBi): | F5: 20 | H5: G. Preamplificador (dB): | I5: 20
B6: Span: | C6: 350 | E6: Sweep Time: | F6: AUTO
B7: RBW(kHz): | C7: 300 | E7: VBW(kHz): | F7: 100
B8: Ref. Level(dBm): | C8: -40 | E8: At(dB): | F8: 0
B9: Az => 360° | C9: Bajas | D9: HOR | E9: VER | L9: Altas | M9: HOR | N9: VER
B30: MED.Megacenter[184° ±30°] | C30: Bajas | D30: HOR | E30: VER | L30: Altas | M30: HOR | N30: VER

Sheet Anexos
B14: Nombre de la Empresa Ejecutora
B15: DECOM S.A.S
C20: * Declaracion del estudio
C21: * Tarjeta Profesional del Representante Legal
C22: * Certificados de Calibración del Analizador
B26: Nombre de la Persona responsable de los Estudios
B27: Daniel Osvaldo Villa Rúa

Sheet Declaracion
B6: Medellin | E6: =Portada!O50 -> 44315

Sheet Tarjeta Profesional
B6: Tarjeta Profesional del Representante Legal
B8: Imagen de la Tarjeta de Profesional del Personal responsable Legal

Sheet Cert. Calibracion Analizador
B8: Certificado de Calibración Analizador de Espectro
B10: Certificado Escaneado Vigente

Sheet Caracterización de Elemento Pa
B8: Hoja de datos antena y cables de RF usados
B10: Certificado Escaneado Vigente
